BEGIN:VCALENDAR
VERSION:2.0
PRODID:-//Zeit &amp; Raum Ammertal - ECPv6.15.20//NONSGML v1.0//EN
CALSCALE:GREGORIAN
METHOD:PUBLISH
X-ORIGINAL-URL:https://zeit-raum.online
X-WR-CALDESC:Veranstaltungen für Zeit &amp; Raum Ammertal
REFRESH-INTERVAL;VALUE=DURATION:PT1H
X-Robots-Tag:noindex
X-PUBLISHED-TTL:PT1H
BEGIN:VTIMEZONE
TZID:Europe/Berlin
BEGIN:DAYLIGHT
TZOFFSETFROM:+0100
TZOFFSETTO:+0200
TZNAME:CEST
DTSTART:20240331T010000
END:DAYLIGHT
BEGIN:STANDARD
TZOFFSETFROM:+0200
TZOFFSETTO:+0100
TZNAME:CET
DTSTART:20241027T010000
END:STANDARD
BEGIN:DAYLIGHT
TZOFFSETFROM:+0100
TZOFFSETTO:+0200
TZNAME:CEST
DTSTART:20250330T010000
END:DAYLIGHT
BEGIN:STANDARD
TZOFFSETFROM:+0200
TZOFFSETTO:+0100
TZNAME:CET
DTSTART:20251026T010000
END:STANDARD
BEGIN:DAYLIGHT
TZOFFSETFROM:+0100
TZOFFSETTO:+0200
TZNAME:CEST
DTSTART:20260329T010000
END:DAYLIGHT
BEGIN:STANDARD
TZOFFSETFROM:+0200
TZOFFSETTO:+0100
TZNAME:CET
DTSTART:20261025T010000
END:STANDARD
END:VTIMEZONE
BEGIN:VEVENT
DTSTART;TZID=Europe/Berlin:20250912T093000
DTEND;TZID=Europe/Berlin:20250912T103000
DTSTAMP:20260424T134554
CREATED:20241212T202650Z
LAST-MODIFIED:20250818T112647Z
UID:2394-1757669400-1757673000@zeit-raum.online
SUMMARY:Energiearbeit - Balance für Körper\, Geist und Seele
DESCRIPTION:PRÄSENZ // Jeden Tag sind wir mit unterschiedlichsten Energien (wie z.B. einem Computer\, einem Handy und unterschiedlichen Systemen) konfrontiert. Wir selber brauchen Energie um uns zu bewegen\, zu denken und um überhaupt zu leben. Das Wort „Energie“ leitet sich aus dem Altgriechischen ab und bedeutet „wirkende Kraft“. Sind wir voller Energie\, fühlen wir uns gesund und könnten Bäume ausreißen. Sind wir hingegen energielos\, würden wir am liebsten den ganzen Tag im Bett bleiben. \nBestimmte Themen\, Muster und unaufgelöste Gefühle und Emotionen können unseren Körper\, unseren Energiefluss beeinflussen. Werden diese gelöst\, wird der Selbstheilungsprozess aktiviert und der Körper in einer schönen neuen Energie ausgerichtet.
URL:https://zeit-raum.online/programm/energiearbeit-balance-fuer-koerper-geist-und-seele-2/
LOCATION:Praxis Viola Ott\, Martin-Schweiger-Str. 3a\, Unterammergau\, 82497
ATTACH;FMTTYPE=image/png:https://zeit-raum.online/wp-content/uploads/2024/12/Aesthetisch-Foto-Dunkel-Rauhnaechte-Rituale-Braeuche-Spirituell-Magie-Instagra_20241209_193711_0000.png
ORGANIZER;CN="Stefanie Witting":MAILTO:info@herzbewusstsein-gap.de
END:VEVENT
END:VCALENDAR