BEGIN:VCALENDAR
VERSION:2.0
PRODID:-//Zeit &amp; Raum Ammertal - ECPv6.15.20//NONSGML v1.0//EN
CALSCALE:GREGORIAN
METHOD:PUBLISH
X-WR-CALNAME:Zeit &amp; Raum Ammertal
X-ORIGINAL-URL:https://zeit-raum.online
X-WR-CALDESC:Veranstaltungen für Zeit &amp; Raum Ammertal
REFRESH-INTERVAL;VALUE=DURATION:PT1H
X-Robots-Tag:noindex
X-PUBLISHED-TTL:PT1H
BEGIN:VTIMEZONE
TZID:Europe/Berlin
BEGIN:DAYLIGHT
TZOFFSETFROM:+0100
TZOFFSETTO:+0200
TZNAME:CEST
DTSTART:20240331T010000
END:DAYLIGHT
BEGIN:STANDARD
TZOFFSETFROM:+0200
TZOFFSETTO:+0100
TZNAME:CET
DTSTART:20241027T010000
END:STANDARD
BEGIN:DAYLIGHT
TZOFFSETFROM:+0100
TZOFFSETTO:+0200
TZNAME:CEST
DTSTART:20250330T010000
END:DAYLIGHT
BEGIN:STANDARD
TZOFFSETFROM:+0200
TZOFFSETTO:+0100
TZNAME:CET
DTSTART:20251026T010000
END:STANDARD
BEGIN:DAYLIGHT
TZOFFSETFROM:+0100
TZOFFSETTO:+0200
TZNAME:CEST
DTSTART:20260329T010000
END:DAYLIGHT
BEGIN:STANDARD
TZOFFSETFROM:+0200
TZOFFSETTO:+0100
TZNAME:CET
DTSTART:20261025T010000
END:STANDARD
END:VTIMEZONE
BEGIN:VEVENT
DTSTART;TZID=Europe/Berlin:20251119T090000
DTEND;TZID=Europe/Berlin:20251119T160000
DTSTAMP:20260424T133822
CREATED:20250313T190206Z
LAST-MODIFIED:20250824T170916Z
UID:3202-1763542800-1763568000@zeit-raum.online
SUMMARY:Workshop für Lehrer - Kommunikation\, ohne Druck mit großer Wirkung
DESCRIPTION:PRÄSENZ // Liebe Lehrkräfte\, in diesem Workshop verbinden wir Erkenntnisse aus der Kommunikationspsychologie mit erfahrungsbasierten Übungen\, die nicht nur den Verstand\, sondern auch das Herz berühren. \nIm Fokus stehen Selbstreflexion für Ihren Schulalltag – aber auch für Ihr persönliches Leben – in einem geschützten Rahmen\, der Wachstum und professionelle Weiterentwicklung gleichermaßen ermöglicht. \nSie müssen nichts leisten. Allein durch Ihre Teilnahme beginnt Veränderung. Transformation geschieht hier nicht durch Anstrengung\, sondern durch Erfahrung. \nDurch bewusstes Erleben\, achtsames Zuhören und das Einbeziehen in den dialogischen Prozess verändert sich Ihre Kommunikation ganz natürlich – von innen heraus. Sie nehmen neue Perspektiven wahr\, verstehen Reaktionen tiefer und entwickeln eine andere Präsenz in Gesprächen. \nFühlen Sie sich angesprochen – für sich selbst und auch für Ihre Kollegen. \nOhne Druck. Ohne Methoden zum Abhaken. Sondern durch echtes Erleben\, das wirkt. \nWir freuen uns auf einen Tag\, der inspiriert\, verbindet und nachklingt. \nKosten und weitere Termine auf Anfrage\nAuch für andere Berufsgruppen und Teams buchbar
URL:https://zeit-raum.online/programm/leih-mir-dein-ohr-und-ich-schenk-dir-mein-herz-6/
LOCATION:Praxis Viola Ott\, Martin-Schweiger-Str. 3a\, Unterammergau\, 82497
ATTACH;FMTTYPE=image/jpeg:https://zeit-raum.online/wp-content/uploads/2025/08/g071516e90052e7d8b3e9d5f61cf35f94855faeaf7461e6287ccad5e9dd7217b790cba39731f3461c3f49e4fdfccd7497c9785a9c079882c9b2d752f945c52636_1280-4829602.jpg
ORGANIZER;CN="Viola Ott & Andrea Hipp":MAILTO:praxis@violaott.de
END:VEVENT
BEGIN:VEVENT
DTSTART;TZID=Europe/Berlin:20251119T190000
DTEND;TZID=Europe/Berlin:20251119T203000
DTSTAMP:20260424T133822
CREATED:20250816T103608Z
LAST-MODIFIED:20250828T161808Z
UID:3981-1763578800-1763584200@zeit-raum.online
SUMMARY:Life Kinetik – Bewegung fürs Gehirn\, Power für den Alltag
DESCRIPTION:PRÄSENZ // \nBewegung + Wahrnehmung + Kognition\n= mehr Leistung \n  \nLife Kinetik bringt Bewegung und Gehirnleistung clever zusammen: Mit überraschenden Übungen\, die gleichzeitig koordinativ und geistig fordern\, verbessern Sie z.B. Fokus\, Reaktionsvermögen und Stressresistenz – ganz spielerisch.\nIdeal für Mütter im mentalen Dauerlauf\, Kinder\, Jugendliche und Studenten\, die Ihre Konzentration steigern wollen\, Berufstätige mit voller Agenda und Sportler*innen\, die das nächste Level erreichen wollen und vieles mehr.\nErfahren Sie in einem kurzen Vortrag den Hintergrund dieser innovativen Methode – und erleben Sie in der Schnupperstunde direkt\, was in Ihnen steckt! \n2 Freundinnen zahlen 25 €
URL:https://zeit-raum.online/programm/life-kinetik-bewegung-fuers-gehirn-power-fuer-den-alltag-2/
LOCATION:Praxis Viola Ott\, Martin-Schweiger-Str. 3a\, Unterammergau\, 82497
CATEGORIES:Workshop
ATTACH;FMTTYPE=image/jpeg:https://zeit-raum.online/wp-content/uploads/2025/03/Lifekine-scaled.jpg
ORGANIZER;CN="Evi Gesell":MAILTO:gesell@deinmosaik.de
END:VEVENT
END:VCALENDAR