BEGIN:VCALENDAR
VERSION:2.0
PRODID:-//Zeit &amp; Raum Ammertal - ECPv6.15.20//NONSGML v1.0//EN
CALSCALE:GREGORIAN
METHOD:PUBLISH
X-ORIGINAL-URL:https://zeit-raum.online
X-WR-CALDESC:Veranstaltungen für Zeit &amp; Raum Ammertal
REFRESH-INTERVAL;VALUE=DURATION:PT1H
X-Robots-Tag:noindex
X-PUBLISHED-TTL:PT1H
BEGIN:VTIMEZONE
TZID:Europe/Berlin
BEGIN:DAYLIGHT
TZOFFSETFROM:+0100
TZOFFSETTO:+0200
TZNAME:CEST
DTSTART:20250330T010000
END:DAYLIGHT
BEGIN:STANDARD
TZOFFSETFROM:+0200
TZOFFSETTO:+0100
TZNAME:CET
DTSTART:20251026T010000
END:STANDARD
BEGIN:DAYLIGHT
TZOFFSETFROM:+0100
TZOFFSETTO:+0200
TZNAME:CEST
DTSTART:20260329T010000
END:DAYLIGHT
BEGIN:STANDARD
TZOFFSETFROM:+0200
TZOFFSETTO:+0100
TZNAME:CET
DTSTART:20261025T010000
END:STANDARD
BEGIN:DAYLIGHT
TZOFFSETFROM:+0100
TZOFFSETTO:+0200
TZNAME:CEST
DTSTART:20270328T010000
END:DAYLIGHT
BEGIN:STANDARD
TZOFFSETFROM:+0200
TZOFFSETTO:+0100
TZNAME:CET
DTSTART:20271031T010000
END:STANDARD
END:VTIMEZONE
BEGIN:VEVENT
DTSTART;TZID=Europe/Berlin:20260104T110000
DTEND;TZID=Europe/Berlin:20260104T140000
DTSTAMP:20260424T110648
CREATED:20241213T213517Z
LAST-MODIFIED:20251207T153404Z
UID:2545-1767524400-1767535200@zeit-raum.online
SUMMARY:Deine Seelenreise ins neue Jahr
DESCRIPTION:PRÄSENZ // Das neue Jahr lädt uns ein\, innezuhalten und genau hinzuspüren: Was will in mir wachsen? Welche Sehnsüchte\, Hoffnungen und Träume möchte meine Seele verwirklichen?\nMit der kreativen Methode der Seelen-Collage gibst du deinen inneren Bildern und Visionen Raum und Ausdruck – dort\, wo Worte oft fehlen oder nicht ausreichen. Jede individuell gestaltete Bildkarte wird zum Spiegel deiner Seele\, der dich auf ganz besondere Weise mit deinen tiefsten Wünschen und inneren Ressourcen verbindet. \nGemeinsam entschlüsseln wir die Botschaften deiner Collage und öffnen so das Tor zu deiner ganz persönlichen Vision für das kommende Jahr. So entsteht Klarheit\, was dich wirklich bewegt und welche Schritte dich auf deinem Weg unterstützen. \nLass dich von deiner inneren Stimme leiten und gestalte deine Vision – bunt\, kraftvoll und voller Leben. \nWenn die Seele etwas erfahren möchte\, dann wirft sie ein Bild der Erfahrung vor sich und tritt in dieses ein.\n                                                                                                                                                                                          Meister Eckhart
URL:https://zeit-raum.online/programm/seelencollage-2/
LOCATION:Praxis Viola Ott\, Martin-Schweiger-Str. 3a\, Unterammergau\, 82497
ATTACH;FMTTYPE=image/jpeg:https://zeit-raum.online/wp-content/uploads/2024/12/IMG_20220316_074820_edit_10626899820253.jpg
ORGANIZER;CN="Viola Ott":MAILTO:praxis@violaott.de
END:VEVENT
END:VCALENDAR