BEGIN:VCALENDAR
VERSION:2.0
PRODID:-//Zeit &amp; Raum Ammertal - ECPv6.15.20//NONSGML v1.0//EN
CALSCALE:GREGORIAN
METHOD:PUBLISH
X-WR-CALNAME:Zeit &amp; Raum Ammertal
X-ORIGINAL-URL:https://zeit-raum.online
X-WR-CALDESC:Veranstaltungen für Zeit &amp; Raum Ammertal
REFRESH-INTERVAL;VALUE=DURATION:PT1H
X-Robots-Tag:noindex
X-PUBLISHED-TTL:PT1H
BEGIN:VTIMEZONE
TZID:Europe/Berlin
BEGIN:DAYLIGHT
TZOFFSETFROM:+0100
TZOFFSETTO:+0200
TZNAME:CEST
DTSTART:20240331T010000
END:DAYLIGHT
BEGIN:STANDARD
TZOFFSETFROM:+0200
TZOFFSETTO:+0100
TZNAME:CET
DTSTART:20241027T010000
END:STANDARD
BEGIN:DAYLIGHT
TZOFFSETFROM:+0100
TZOFFSETTO:+0200
TZNAME:CEST
DTSTART:20250330T010000
END:DAYLIGHT
BEGIN:STANDARD
TZOFFSETFROM:+0200
TZOFFSETTO:+0100
TZNAME:CET
DTSTART:20251026T010000
END:STANDARD
BEGIN:DAYLIGHT
TZOFFSETFROM:+0100
TZOFFSETTO:+0200
TZNAME:CEST
DTSTART:20260329T010000
END:DAYLIGHT
BEGIN:STANDARD
TZOFFSETFROM:+0200
TZOFFSETTO:+0100
TZNAME:CET
DTSTART:20261025T010000
END:STANDARD
END:VTIMEZONE
BEGIN:VEVENT
DTSTART;TZID=Europe/Berlin:20251001T200000
DTEND;TZID=Europe/Berlin:20251001T210000
DTSTAMP:20260422T155914
CREATED:20250818T214618Z
LAST-MODIFIED:20251001T075851Z
UID:4115-1759348800-1759352400@zeit-raum.online
SUMMARY:Stärke die Gesundheit deines Kindes – von innen heraus
DESCRIPTION:PRÄSENZ // Entdecke\, wie du mit ganz natürlichen Wegen Körper\, Geist und Seele deines Kindes stärkst. \nDu wünschst Dir\, dass Dein Kind gesund\, stark und ausgeglichen aufwächst? Dann solltest Du mindestens zwei Nährstoffe unbedingt kennen: Omega-3 Fettsäuren und Vitamin D3. Sie sind entscheidend für: \n\ndie Entwicklung von Gehirn und Nervensystem\, emotionale Stabilität und Ausgeglichenheit\nKonzentration und Lernfähigkeit\nein starkes Immunsystem\, gesunde Zellen\n\nWas wenig bekannt ist: Kinder in Deutschland sind zu 95 % unterversorgt\, was langfristig ihre Gesundheit beeinträchtigen kann und oft zu den weit verbreiteten Zivilisationskrankheiten wie z.B. Bluthochdruck\, Diabetes\, sogar Depression oder später Demenz führen. In diesem Vortrag erfährst Du: \n\nwie Du erkennst\, ob Dein Kind ausreichend versorgt ist\nwie fatal ein Körper auf zu viel Sonnenschutz reagiert\neinfache und alltagstaugliche Wege\, Defizite auszugleichen\nwelche Nährstoffe sonst noch wichtig sind und in welcher Menge\n\nDer Vortrag richtet sich an Dich\, wenn Du und Dein Kind  \n\npräventiv handeln die bestmögliche Basis für Gesundheit\, Lernen und Wohlbefinden geben möchtest\nbereits mit ADHS oder anderen neurodivergenten Diagnosen in Kontakt gekommen bist\nProbleme mit Neurodermitis\, Leaky Gut\, Allergien oder Asthma hast oder dein Kind ständig krank ist\n\nFreu Dich auf einen spannenden Abend mit neuesten wissenschaftlichen Erkenntnissen\, verständlich aufbereitet. Im Anschluss gibt es eine Fragerunde. \n  \n——– Melde dich hier an\, es gibt nur begrenzt Plätze! ——–\n  \nWir freuen uns auf Dich! \nAndrea Hipp & Sabine Wimberger\nwww.gap-in-balance.de
URL:https://zeit-raum.online/programm/staerke-die-gesundheit-deines-kindes-von-innen-heraus/
LOCATION:Praxis Viola Ott\, Martin-Schweiger-Str. 3a\, Unterammergau\, 82497
ATTACH;FMTTYPE=image/jpeg:https://zeit-raum.online/wp-content/uploads/2025/08/Vortrag-Gesundheit-deines-Kindes.jpg
ORGANIZER;CN="Andrea Hipp":MAILTO:post@andreahipp.de
END:VEVENT
BEGIN:VEVENT
DTSTART;TZID=Europe/Berlin:20251014T190000
DTEND;TZID=Europe/Berlin:20251014T203000
DTSTAMP:20260422T155914
CREATED:20250816T102635Z
LAST-MODIFIED:20250829T154714Z
UID:3984-1760468400-1760473800@zeit-raum.online
SUMMARY:Wie Ganzheitliches Sehtraining auch Ihren Alltag verbessern kann
DESCRIPTION:PRÄSENZ //  \nKinder\, Jugendliche\, Studierende\, Berufstätige und Senioren – unsere Augen sind jeden Tag im Dauereinsatz. Ob beim langen Starren auf Computer oder Handy\, beim Lesen oder Autofahren – die Augen werden stark beansprucht. Die Folge sind oft trockene Augen\, nachlassende Sehkraft\, angespannte Muskeln\, Müdigkeit\, Kopfschmerzen und nachlassende Konzentration.\nGanzheitliches Sehtraining kann helfen\, die Augenmuskulatur zu harmonisieren\, die Zusammenarbeit beider Augen zu verbessern\, mehr Entspannung ins Sehen zu bringen und vieles mehr.\nErleben Sie im Vortrag mit Schnupperstunde selbst\, wie einfach sie Ihre Augen entlasten und Ihre Sehkraft wieder stärken können.
URL:https://zeit-raum.online/programm/wie-ganzheitliches-sehtraining-auch-ihren-alltag-verbessern-kann/
LOCATION:Praxis Viola Ott\, Martin-Schweiger-Str. 3a\, Unterammergau\, 82497
CATEGORIES:Vortrag
ATTACH;FMTTYPE=image/jpeg:https://zeit-raum.online/wp-content/uploads/2024/12/Evi-Gsell-auge-scaled.jpg
ORGANIZER;CN="Evi Gesell":MAILTO:gesell@deinmosaik.de
END:VEVENT
BEGIN:VEVENT
DTSTART;TZID=Europe/Berlin:20251019T160000
DTEND;TZID=Europe/Berlin:20251019T210000
DTSTAMP:20260422T155914
CREATED:20251006T175459Z
LAST-MODIFIED:20251006T175459Z
UID:4370-1760889600-1760907600@zeit-raum.online
SUMMARY:Systemische Aufstellungen nach atmaWORKS®
DESCRIPTION:PRÄSENZ // Gemeinsam mit Katharina Lindebner-Erhardt stelle ich 1x im Monat in Garmisch-Partenkirchen auf. \nDie Aufstellungsarbeit nach atmaWORKS® ist sehr achtsam und findet verdeckt statt. Das bedeutet\, dass das Vorgespräch ohne Beisein der Stellvertreter stattfindet. Auch während der Aufstellung erfahren die Stellvertreter nicht\, für wen oder was sie aufgestellt sind. So können sie ganz pur\, unabhängig von eigenen Interpretationen und Vorstellungen\, ihren inneren Impulsen folgen. Die Aufstellungsarbeit beruht auf einer absoluten Freiwilligkeit von Stellvertretern und Klientensystem. In Verbindung mit dem Herzen des Klienten kann über den körperlichen Ausdruck der Stellvertreter das System achtsam in eine stimmige neue Ordnung geführt werden.\nDie Aufstellungsarbeit ist angelehnt an die späte Arbeitsweise von Bernd Hellinger. Es wird ohne direktiven Eingriff ins Feld gearbeitet. Über die Bewegungen der Stellvertreter liest die Aufstellungsleitung die Sprache des Klientenfeldes und nutzt als Impulsgeber Räucherpflanzen\, homöopathische Mittel\, Fingerstellungen\, Arzneien der Gienowmethode® und systemische Werkzeuge\, um einen sanften Lösungs- und Integrationsprozess zu unterstützen.\nDas Einverständnis des Klienten vorausgesetzt\, findet nach der Aufstellung ein Nachgespräch mit den Stellvertretern statt. \n  \nStellvertreter\nFür diese Arbeit stellen sich Menschen als Stellvertreter zur Verfügung. Diese schulen dadurch ihre eigene Aufmerksamkeit\, Achtsamkeit und Präsenz. Sie lernen zwischen Glaubenssätzen\, Verhaltensmustern\, emotionalen Ladungen und authentischem Seelenausdruck zu unterscheiden. Bei dieser Art der Aufstellungsarbeit wird sehr wenig gesprochen\, um ganz in der Körperpräsenz bleiben zu können und sich nicht zu sehr vom Verstand und eigenen Vor-Stellungen lenken zu lassen. Der Hauptteil wird über die Bewegungen und Impulse der Stellvertreter ausgedrückt\, woraufhin ich mithilfe von Pflanzen\, homöopathischen Mitteln und systemischen Werkzeugen Lösungsimpulse im Feld verräuchere.\nZeitlicher Rahmen \nAn einem Aufstellungstermin finden max. 3 Aufstellungen statt. Für den Klienten findet das Vorgespräch vor dem Eintreffen der Stellvertreter statt. Der zeitliche Rahmen einer Aufstellung kann sehr unterschiedlich sein. Meistens dauert eine einzelne Aufstellungssequenz mit Nachbesprechung circa 1 bis 1\,5 Std. Zwischen den Aufstellungen finden Pausen statt. \n\nTermine 2025\nSonntag\, den 19. Oktober\nMittwoch\, den 26. November (ab 17 Uhr)\nSamstag\, den 13. Dezember \nUhrzeit\nKlienten um 14.30 Uhr\nStellvertreter um 16 Uhr \nKosten\nFür Stellvertreter: Kostenlos\nFür Klienten: € 120/Std.\nberechnet werden das Vorgespräch + Aufstellungszeit \n\n  \nBei Interesse als Klient eine Aufstellung zu machen\, bitte ich um eine telefonische Anfrage bezüglich freien Aufstellungsplätzen oder um eine kurze Mail an anna@sirona-pg.com. \nBei Interesse als Stellvertreter an den Aufstellungen teilzunehmen oder um in den Stellvertreterverteiler in Garmisch-Partenkirchen aufgenommen zu werden\, bitte ich ebenfalls um eine kurze Anmeldung telefonisch oder per Mail an anna@sirona-pg.com.
URL:https://zeit-raum.online/programm/systemische-aufstellungen-nach-atmaworks-3/
LOCATION:Praxis Anna Koppold\, Schwarzenkopfweg 1\, Garmisch-Partenkirchen\, 82467\, Germany
ATTACH;FMTTYPE=image/jpeg:https://zeit-raum.online/wp-content/uploads/2025/10/2021_04_09_Anna_Koppold-130.jpg
ORGANIZER;CN="Anna Koppold":MAILTO:anna@sirona-pg.com
END:VEVENT
BEGIN:VEVENT
DTSTART;TZID=Europe/Berlin:20251023T190000
DTEND;TZID=Europe/Berlin:20251023T200000
DTSTAMP:20260422T155914
CREATED:20250816T102858Z
LAST-MODIFIED:20250816T102858Z
UID:3990-1761246000-1761249600@zeit-raum.online
SUMMARY:Omega-3 – Kleine Fettsäuren\, große Wirkung!
DESCRIPTION:Online // Erfahren Sie\, warum Omega-3 weit mehr ist als ein Ernährungstrend – und schon zu Omas Zeiten zurecht als unverzichtbar galt.\nWarum jeder der seine Gesundheit langfristig stärken will\, von einer gezielten Omega-3-Versorgung profitieren kann.\nWarum Omega 3 besonders wichtig für Schwangere und Stillende\, Kinder und Jugendliche\, z. B. auch bei ADHS ist.\nWarum Omega 3 zur Förderung von Schlaf und Konzentration beitragen kann und bei Entzündungen im Körper u.v.m. unterstützend wirkt. \nWissenschaftlich fundiert\, verständlich erklärt – ein Vortrag\, der den Blick auf Ihre Gesundheit verändern kann.
URL:https://zeit-raum.online/programm/omega-3-kleine-fettsaeuren-grosse-wirkung/
LOCATION:Online\, Bitte beim Referenten anmelden
CATEGORIES:Vortrag
ATTACH;FMTTYPE=image/jpeg:https://zeit-raum.online/wp-content/uploads/2024/12/AdobeStock_302427372-scaled-e1733401106947.jpeg
ORGANIZER;CN="Evi Gesell":MAILTO:gesell@deinmosaik.de
END:VEVENT
BEGIN:VEVENT
DTSTART;TZID=Europe/Berlin:20251028T090000
DTEND;TZID=Europe/Berlin:20251028T103000
DTSTAMP:20260422T155914
CREATED:20250310T200854Z
LAST-MODIFIED:20250928T175832Z
UID:2855-1761642000-1761647400@zeit-raum.online
SUMMARY:Lebensenergie pur\, Strahlen von innen. Mehr Energie\, besser schlafen\, stark durchs Leben gehen.
DESCRIPTION:PRÄSENZ // \nVital-Vormittag – Energie beginnt im Inneren\nWusstest du\, dass dein Körper trotz vollem Teller oft verhungert – weil ihm Vitamine\, Mineralstoffe und Omega-3 fehlen?\nDeine Zellen brauchen diese Bausteine\, um Energie zu produzieren\, dein Immunsystem stark zu halten und dich gesund strahlen zu lassen.\nUnd dein Darm? Dort sitzen 70 % deiner Abwehr – er entscheidet\, wie fit\, widerstandsfähig und vital du bist.\nAn diesem Vormittag erfährst du\, warum Nahrungsergänzungen heute unverzichtbar sind und wie du deinem Körper endlich das gibst\, was er wirklich braucht.\nKomm vorbei\, tanke neue Kraft\, probiere einen Vitaldrink und starte mit mehr Energie\, besserem Schlaf und innerer Balance in dein Leben.\n\nIch freu mich auf dich\nDeine Ramona\nWellnessberaterin mit Herz
URL:https://zeit-raum.online/programm/achtsamkeit-entspannung-und-die-innere-mitte-ein-praxiswochenende-mit-meditationen-koerperuebungen-und-zeit-zum-austausch/
LOCATION:Praxis Viola Ott\, Martin-Schweiger-Str. 3a\, Unterammergau\, 82497
ATTACH;FMTTYPE=image/jpeg:https://zeit-raum.online/wp-content/uploads/2025/08/gdd69df1f539dbb1ef8aa3757946254696bc56a6a84143a7acc9b53350b982560e41b40e0b35a7634414981679a29708afa9f1662809c0b69c983d27f7c7528ae_1280-3111718.jpg
ORGANIZER;CN="Ramona Lukas":MAILTO:lichtbringer@mail.gmx
END:VEVENT
BEGIN:VEVENT
DTSTART;TZID=Europe/Berlin:20251028T190000
DTEND;TZID=Europe/Berlin:20251028T203000
DTSTAMP:20260422T155914
CREATED:20250816T103119Z
LAST-MODIFIED:20250828T162111Z
UID:3979-1761678000-1761683400@zeit-raum.online
SUMMARY:Life Kinetik – Bewegung fürs Gehirn\, Power für den Alltag
DESCRIPTION:PRÄSENZ // \nBewegung + Wahrnehmung + Kognition\n= mehr Leistung \n  \nLife Kinetik bringt Bewegung und Gehirnleistung clever zusammen: Mit überraschenden Übungen\, die gleichzeitig koordinativ und geistig fordern\, verbessern Sie z.B. Fokus\, Reaktionsvermögen und Stressresistenz – ganz spielerisch.\nIdeal für Mütter im mentalen Dauerlauf\, Kinder\, Jugendliche und Studenten\, die Ihre Konzentration steigern wollen\, Berufstätige mit voller Agenda und Sportler*innen\, die das nächste Level erreichen wollen und vieles mehr\nErfahren Sie in einem kurzen Vortrag den Hintergrund dieser innovativen Methode – und erleben Sie in der Schnupperstunde direkt\, was in Ihnen steckt! \n2 Freundinnen zahlen 25 €
URL:https://zeit-raum.online/programm/life-kinetik-bewegung-fuers-gehirn-power-fuer-den-alltag/
LOCATION:Praxis Viola Ott\, Martin-Schweiger-Str. 3a\, Unterammergau\, 82497
CATEGORIES:Workshop
ATTACH;FMTTYPE=image/jpeg:https://zeit-raum.online/wp-content/uploads/2025/03/Lifekine-scaled.jpg
ORGANIZER;CN="Evi Gesell":MAILTO:gesell@deinmosaik.de
END:VEVENT
BEGIN:VEVENT
DTSTART;TZID=Europe/Berlin:20251031T180000
DTEND;TZID=Europe/Berlin:20251031T203000
DTSTAMP:20260422T155914
CREATED:20250917T174306Z
LAST-MODIFIED:20250917T174306Z
UID:4333-1761933600-1761942600@zeit-raum.online
SUMMARY:Jahreskreisabend zu Samhain
DESCRIPTION:Von Ahnen\, Endlichkeit und Neubeginn \nSamhain\, das alte Neujahrsfest der Kelten\, ist die Schwelle in die dunkle Jahreszeit. \nEs wird traditionell gefeiert in einer Zeit\, wenn es um uns herum in der Natur immer dunkler und karger wird\, die Blätter von den Bäumen fallen und die ersten Herbststürme übers Land ziehen. Und so\, wie es uns die Natur vormacht\, ergeht es uns meist ebenso. Wir ziehen uns nach dem erfüllten Sommer und erntereichen Herbst nun am liebsten in unser Innerstes zurück und genießen stillere Tage zu Hause. \nSo ist es auch eine Zeit der Innenschau und der Konzentration auf das absolut Wesentliche. Dabei erkennen wir vielleicht auch wieder mehr das Existentielle im eigenen Leben und die Endlichkeit. Und so fallen in die Novemberzeit eben auch die vielen Toten-Feste und Gedenktage wie Allerheiligen und Allerseelen. Das Wissen um Sterben und Tod und um Anderswelten ist uns nah. Und immer\, wenn etwas zu Ende geht\, ist es gleichzeitig ein Erwachen und ein Neubeginn. \nAn diesem Abend möchte ich gemeinsam mit Euch das Jahreskreisfest Samhain begehen. Es soll ein bewusster Übergang in die stille Jahreszeit sein. Eine Gedenkzeit an unsere Ahnen. Ein Eintritt in die kreative Winterzeit\, in der die schlummernden Samen für das Neue erträumt werden wollen. \nIch erzähle einiges zu dieser wunderbaren\, stillen Jahreszeit und dem Fest Samhain. \nAußerdem lade ich dazu ein\, gemeinsam als Gruppe ein stimmiges Übergangsritual zu gestalten. \n 
URL:https://zeit-raum.online/programm/jahreskreisabend-zu-samhain/
LOCATION:Praxis Viola Ott\, Martin-Schweiger-Str. 3a\, Unterammergau\, 82497
ATTACH;FMTTYPE=image/jpeg:https://zeit-raum.online/wp-content/uploads/2025/09/year-celebrations-3088405_1280.jpg
ORGANIZER;CN="Anna Koppold":MAILTO:anna@sirona-pg.com
END:VEVENT
END:VCALENDAR